BEGIN:VCALENDAR
VERSION:2.0
PRODID:-//WP EVENT Manager Ical//NONSGML Events //EN
CALSCALE:GREGORIAN

BEGIN:VEVENT

DTSTART:20250201T080000AMZ
DTEND:20250201T180000PMZ
LOCATION:Daumeray
SUMMARY:Spectacle « Rouget le Braconnier » 78 €
DESCRIPTION:Venez découvrir le vrai visage de  « Rouget le braconnier »Le samedi 1er février 2025 à Daumeray (49)Déjeuner à l&rsquo;auberge du braconnier puisThéâtre « Rouget le braconnier »


END:VEVENT
END:VCALENDAR
    