BEGIN:VCALENDAR
VERSION:2.0
PRODID:-//WP EVENT Manager Ical//NONSGML Events //EN
CALSCALE:GREGORIAN

BEGIN:VEVENT

DTSTART:20251113T100000AMZ
DTEND:20251113T160000PMZ
LOCATION:Espace culturel Cap Nort 44390 NORT SUR ERDRE
SUMMARY:Déjeuner spectacle CITRUS
DESCRIPTION:Venez découvrir le nouveau spectacle du groupe CITRUS« DINGUE HOTEL »le jeudi 13 novembre 2025 à 12h00.Espace culturel Cap Nort à NORT SUR ERDREFlyer HOTEL Nort sur Erdre 13 novembre 2025_2_1 (1)


END:VEVENT
END:VCALENDAR
    