BEGIN:VCALENDAR
VERSION:2.0
PRODID:-//WP EVENT Manager Ical//NONSGML Events //EN
CALSCALE:GREGORIAN

BEGIN:VEVENT

DTSTART:20250616T080000AMZ
DTEND:20250616T160000PMZ
LOCATION:Etang de la Foucaudière - Saint Laurent des Autels - 49270 OREE D'ANJOU
SUMMARY:Sortie Activité marche – Etang de la Foucaudière à St Laurent des Autels
DESCRIPTION:La sortie de l&rsquo;activité « Marche » aura lieu :le lundi 16 juin 2025 à l&rsquo;étang de la Foucaudière à St Laurent des Autels.Nous commencerons la journée par une petite marche autour de l&rsquo;étang puis nous déjeunerons et nous finirons par un moment de convivialité pour clôturer la journée.


END:VEVENT
END:VCALENDAR
    