BEGIN:VCALENDAR
VERSION:2.0
PRODID:-//WP EVENT Manager Ical//NONSGML Events //EN
CALSCALE:GREGORIAN

BEGIN:VEVENT

DTSTART:20250626T100000AMZ
DTEND:20250626T160000PMZ
LOCATION:Etang des Touches
SUMMARY:Pique-nique activité chorale
DESCRIPTION:La sortie de l’activité « Chorale » aura lieu :le jeudi 26 juin 2025 à l’étang des Touches.(date à confirmer)Nous vous attendons avec votre pique-nique(apéritif et vin offert par votre club)puis nous finirons l&rsquo;après-midi en chansons.


END:VEVENT
END:VCALENDAR
    