BEGIN:VCALENDAR
VERSION:2.0
PRODID:-//WP EVENT Manager Ical//NONSGML Events //EN
CALSCALE:GREGORIAN

BEGIN:VEVENT

DTSTART:20251203T070000AMZ
DTEND:20251203T170000PMZ
LOCATION:Baugé en Anjou
SUMMARY:Noël avant Noël – Baugé en Anjou
DESCRIPTION:Venez fêter NOEL avant l&rsquo;heure avec un spectacle haut en couleursle mercredi 3 décembre à Baugé en Anjou2025 12 03 Noël avant Noël Flyer V2Bulletin inscrption Noël avant Noël 1&nbsp;


END:VEVENT
END:VCALENDAR
    