BEGIN:VCALENDAR
VERSION:2.0
PRODID:-//WP EVENT Manager Ical//NONSGML Events //EN
CALSCALE:GREGORIAN

BEGIN:VEVENT

DTSTART:20250921T120000PMZ
DTEND:20250921T170000PMZ
LOCATION:Salle de la Charbonnière - 44150 ANCENIS-SAINT-GEREON
SUMMARY:LOTO en partenariat avec l’AMIRA
DESCRIPTION:En partenariat avec le club de l&rsquo;AMIRA d&rsquo;Ancenis-Saint-Géréon,nous organisons un loto :le dimanche 21 Septembre 2025 de 14h à 19hOuverture des portes : 12hSalle de la Charbonnière à Ancenis-Saint-GéréonAnimé par Gaëlle CREA&rsquo;VENT2025 Flyer loto fluo


END:VEVENT
END:VCALENDAR
    