BEGIN:VCALENDAR
VERSION:2.0
PRODID:-//WP EVENT Manager Ical//NONSGML Events //EN
CALSCALE:GREGORIAN

BEGIN:VEVENT

DTSTART:20250319T063000AMZ
DTEND:20250319T170000PMZ
LOCATION:Azay-le-Rideau
SUMMARY:Journée Retrouvailles – 86 €
DESCRIPTION:Déjeuner spectacle « Pierre-Yves Noël » ressuscite les stars.Départ en direction d&rsquo;Azay le Rideau, accueil en musique par « Les compagnons du Musette »Venez découvrir un spectacle unique avec les fantômes de :Coluche, Piaf, Bedos, Villeret, Claude François, Dalida, Elie Kakou, Christophe, Bashung, Belmondo, Aznavour, Hallyday et bien d&rsquo;autres.Un spectacle dans lequel Pierre Yves Noël vous livrera une performance exceptionnelle.Musique et danse pendant et après le repas.Retour en autocar en fin d&rsquo;après-midi.Inscription avant le 6 Février 2025.MODIFICATION HORAIRE DE DÉPART8H30 &#8211; Rendez-vous parking du Gotha à Saint-GéréonDépart du car 8H45 précises


END:VEVENT
END:VCALENDAR
    