BEGIN:VCALENDAR
VERSION:2.0
PRODID:-//WP EVENT Manager Ical//NONSGML Events //EN
CALSCALE:GREGORIAN

BEGIN:VEVENT

DTSTART:20260121T130000PMZ
DTEND:20260121T150000PMZ
LOCATION:Salle Horizon 4150 Ancenis-Saint Géréon
SUMMARY:Galette des Bénévoles
DESCRIPTION:Amis bénévoles, pour vous remercier de votre implication lors de nos manifestations,nous vous invitons à venir partager la galette des bénévolesle mercredi 21 janvier 2026 &#8211; Salle Horizon de 15H à 17H


END:VEVENT
END:VCALENDAR
    