BEGIN:VCALENDAR
VERSION:2.0
PRODID:-//WP EVENT Manager Ical//NONSGML Events //EN
CALSCALE:GREGORIAN

BEGIN:VEVENT

DTSTART:20260112T130000PMZ
DTEND:20260112T153000PMZ
LOCATION:Salle Arc en Ciel, 44150 Ancenis-Saint-Géréon
SUMMARY:Galette activité marche
DESCRIPTION:Amis marcheurs et marcheuses, après une petite marche autour d&rsquo;Ancenis-Saint-Géréon,nous vous attendons pour un moment de convivialité autour de galette de l&rsquo;activité « Marche ».le lundi 12 janvier 2026 à la Salle Arc en Ciel de 15H à 17H30Les responsables de l&rsquo;activité reviendront vers vous en janvier pour les inscriptions.Ci-dessous, les « couronnées » de l&rsquo;année 2025.&nbsp;


END:VEVENT
END:VCALENDAR
    