BEGIN:VCALENDAR
VERSION:2.0
PRODID:-//WP EVENT Manager Ical//NONSGML Events //EN
CALSCALE:GREGORIAN

BEGIN:VEVENT

DTSTART:20250906T120000PMZ
DTEND:20250906T160000PMZ
LOCATION:Esplanade de l'espace Edouard Landrain Ancenis-Saint-Géréon
SUMMARY:Forum des Associations
DESCRIPTION:Nous vous attendons sur notre stand afin de vous présenter toutes les activités de notre club.


END:VEVENT
END:VCALENDAR
    