BEGIN:VCALENDAR
VERSION:2.0
PRODID:-//WP EVENT Manager Ical//NONSGML Events //EN
CALSCALE:GREGORIAN

BEGIN:VEVENT

DTSTART:20250924T120000PMZ
DTEND:20250924T163000PMZ
LOCATION:Boulodrome de la Charbonnière, 44150 Ancenis-Saint-Géréon
SUMMARY:Concours de Pétanque des Clubs de Générations Mouvement en doublettes
DESCRIPTION:Concours de pétanque des clubs de GM44 auBoulodrome de la Charbonnière à ANCENIS-SAINT-GEREONLE MERCREDI 24 SEPTEMBRE 2025 de 14H à 18H30Inscription à partir de 13H30


END:VEVENT
END:VCALENDAR
    