BEGIN:VCALENDAR
VERSION:2.0
PRODID:-//WP EVENT Manager Ical//NONSGML Events //EN
CALSCALE:GREGORIAN

BEGIN:VEVENT

DTSTART:20250716T120000PMZ
DTEND:20250716T163000PMZ
LOCATION:Boulodrome de la Charbonnière, 44150 Ancenis-Saint-Géréon
SUMMARY:Concours de Pétanque du groupement
DESCRIPTION:Concours de pétanque au boulodrome de la Charbonnièreà ANCENIS-SAINT-GEREONLE MERCREDI 16 JUILLET 2025 de 14H à 18H30Inscription à partir de 13H30AFFICHE Mercredi 16.07.2025


END:VEVENT
END:VCALENDAR
    