BEGIN:VCALENDAR
VERSION:2.0
PRODID:-//WP EVENT Manager Ical//NONSGML Events //EN
CALSCALE:GREGORIAN

BEGIN:VEVENT

DTSTART:20251122T120000PMZ
DTEND:20251122T163000PMZ
LOCATION:salle du Gotha, 44150 Ancenis-Saint-Géréon
SUMMARY:Concours de Belote du Club
DESCRIPTION:Doc Affiche Concours Belote Club 22 11 2025 Inscription à partir de 13 heures.&nbsp;&nbsp;


END:VEVENT
END:VCALENDAR
    