BEGIN:VCALENDAR
VERSION:2.0
PRODID:-//WP EVENT Manager Ical//NONSGML Events //EN
CALSCALE:GREGORIAN

BEGIN:VEVENT

DTSTART:19691231T220000PMZ
DTEND:19700101T150000PMZ
LOCATION:Salle du Gotha 44150 ANCENIS-SAINT-GEREON
SUMMARY:Carnaval de la danse – Date à venir
DESCRIPTION:En février , deux après-midi pour marquer le coup du carnavalOrganisés par le groupe « Dynamik&rsquo;danse » et le groupe initiation à la danseIl n’y aura pas de carnaval en 2026


END:VEVENT
END:VCALENDAR
    