BEGIN:VCALENDAR
VERSION:2.0
PRODID:-//WP EVENT Manager Ical//NONSGML Events //EN
CALSCALE:GREGORIAN

BEGIN:VEVENT

DTSTART:20250314T123000PMZ
DTEND:20250314T150000PMZ
LOCATION:Salle du Gotha 44150 ANCENIS-SAINT-GEREON
SUMMARY:Carnaval de la danse : INITIATION à la danse
DESCRIPTION:


END:VEVENT
END:VCALENDAR
    