BEGIN:VCALENDAR
VERSION:2.0
PRODID:-//WP EVENT Manager Ical//NONSGML Events //EN
CALSCALE:GREGORIAN

BEGIN:VEVENT

DTSTART:20250426T070000AMZ
DTEND:20250426T170000PMZ
LOCATION:NOUVOITOU (35)
SUMMARY:Cabaret chez Moustache – 105 €
DESCRIPTION:Départ en autocar en direction de Nouvoitou !Rentrez dans l&rsquo;univers incroyable du Music-Hall à la rencontre de personnages déjantés,de danseurs et d&rsquo;acrobates aux numéros spectaculaires.Le SAMEDI 26 AVRIL 2025Inscription avant le 29 mars 2025Prolongation d’inscription jusqu’au 10 avril 20252025 01 14 Moustache définitif&nbsp;


END:VEVENT
END:VCALENDAR
    