BEGIN:VCALENDAR
VERSION:2.0
PRODID:-//WP EVENT Manager Ical//NONSGML Events //EN
CALSCALE:GREGORIAN

BEGIN:VEVENT

DTSTART:20251014T113000AMZ
DTEND:20251014T160000PMZ
LOCATION:Salle du Gotha 44150 ANCENIS-SAINT-GEREON
SUMMARY:Après-midi récréatif
DESCRIPTION:Le Club de l&rsquo;Amitié Ancenis-Saint-Géréonorganise son après-midi récréatifle mardi 14 octobre 2025 à partir de 13h30à la salle du Gotha, rue des Maîtres.Nous vous y attendons nombreux.INVITATION APRES-MIDI RECREATIF du 14 octobre 2025


END:VEVENT
END:VCALENDAR
    