BEGIN:VCALENDAR
VERSION:2.0
PRODID:-//WP EVENT Manager Ical//NONSGML Events //EN
CALSCALE:GREGORIAN

BEGIN:VEVENT

DTSTART:20250323T123000PMZ
DTEND:20250323T153000PMZ
LOCATION:Salle du Gotha, 44150 Ancenis-Saint-Géréon
SUMMARY:Bal du club avec Guy ROBERTO – 12 €
DESCRIPTION:Nous vous attendons nombreux pour passer un après-midi tout en musique avec l&rsquo;Orchestre Guy ROBERTO.Ambiance assurée.Affiche après-midi Dansant du 23 mars 2025


END:VEVENT
END:VCALENDAR
    