BEGIN:VCALENDAR
VERSION:2.0
PRODID:-//WP EVENT Manager Ical//NONSGML Events //EN
CALSCALE:GREGORIAN

BEGIN:VEVENT

DTSTART:20260308T123000PMZ
DTEND:20260308T173000PMZ
LOCATION:Salle du Gotha 44150 ANCENIS-SAINT-GEREON
SUMMARY:Après-midi dansant avec Dominic Allan
DESCRIPTION:Après-midi dansant avec l&rsquo;orchestre Dominic Allanle dimanche 8 mars 2026 de 14h30 à 19h30Salle du Gotha à Ancenis-Saint-GéréonBal du 8 Mars 2026&nbsp;


END:VEVENT
END:VCALENDAR
    